BEGIN:VCALENDAR
VERSION:2.0
PRODID:icalendar-ruby
CALSCALE:GREGORIAN
METHOD:PUBLISH
BEGIN:VEVENT
DTSTAMP:20260422T143925Z
UID:14-972938@firstunited187.tithelysetup5.com
DTSTART:20261102T231500Z
DTEND:20261103T001500Z
CLASS:PUBLIC
CREATED:20260422T072405
DESCRIPTION:Christian Yoga
LAST-MODIFIED:20260422T072405
LOCATION:Lighthouse
SUMMARY:Christian Yoga
URL;VALUE=URI:https://fumcstephenville.org/events/christian-yoga/2026-11-02
ATTACH;FILENAME=yoga.png;FMTTYPE=image/png:https://dq5pwpg1q8ru0.cloudfront
 .net/2025/03/03/22/22/59/dbf8726c-108c-4070-9e84-d1f08f854b15/yoga.png
END:VEVENT
END:VCALENDAR
