BEGIN:VCALENDAR
VERSION:2.0
PRODID:icalendar-ruby
CALSCALE:GREGORIAN
METHOD:PUBLISH
BEGIN:VEVENT
DTSTAMP:20260420T062123Z
UID:17-959222@firstunited187.tithelysetup5.com
DTSTART:20261101T170000Z
DTEND:20261101T180000Z
CLASS:PUBLIC
CREATED:20260419T224839
DESCRIPTION:
LAST-MODIFIED:20260419T224839
LOCATION:Sanctuary
SUMMARY:Traditional Worship
URL;VALUE=URI:https://fumcstephenville.org/events/traditional-worship--17/2
 026-11-01
ATTACH;FILENAME=F1187CA4-F88F-47A0-9DAC-01BBAEAD51AB_1_105_c.jpeg;FMTTYPE=i
 mage/jpeg:https://dq5pwpg1q8ru0.cloudfront.net/2025/04/08/22/30/26/18d186b
 e-ae44-4010-86d5-77e97e2a5728/F1187CA4-F88F-47A0-9DAC-01BBAEAD51AB_1_105_c
 .jpeg
END:VEVENT
END:VCALENDAR
