BEGIN:VCALENDAR
VERSION:2.0
PRODID:icalendar-ruby
CALSCALE:GREGORIAN
METHOD:PUBLISH
BEGIN:VEVENT
DTSTAMP:20260424T051810Z
UID:31-984425@firstunited187.tithelysetup5.com
DTSTART:20261104T213000Z
DTEND:20261104T230000Z
CLASS:PUBLIC
CREATED:20260423T215712
DESCRIPTION:
LAST-MODIFIED:20260423T215712
LOCATION:Fellowship Hall
SUMMARY:WOW/God Squad
URL;VALUE=URI:https://fumcstephenville.org/events/wow-god-squad--31/2026-11
 -04
ATTACH;FILENAME=WOWGod-Squad-2025-2026-%28Instagram-Post-%2845%29%29.jpg;FM
 TTYPE=image/jpeg:https://dq5pwpg1q8ru0.cloudfront.net/2025/09/11/20/14/18/
 2afb2ac9-ce0a-435d-890f-e772c0cb0356/WOWGod-Squad-2025-2026-%2528Instagram
 -Post-%252845%2529%2529.jpg
END:VEVENT
END:VCALENDAR
